Workbook
Name Holidays: Holidays!$C$2:$C$11

Sheet Rate Design
B2: TOU Rate Derivation
B3: Schedule R - Base Rates | J3: Schedule R - Riders
C4: Sales | E4: Customers | F4: Average Usage | G4: Rates | H4: Base Rate Charges | K4: Current Rate | L4: Volume | M4: Revenue
J5: ECA | K5: 0.02674 | L5: =F8 -> 7363.5852 | M5: =L5*K5 -> 196.90227
B6: Tier 2 | C6: ='2018 Rebill'!V14 -> 1.3852887e+09 | D6: =C6/$C$8 -> 0.14921102 | E6: =E7 -> 1260811.2 | F6: =C6/E6 -> 1098.728 | G6: 0.09902 | H6: =G6*F6 -> 108.79605 | J6: DSMCA | K6: 0.00162 | L6: =L5 -> 7363.5852 | M6: =L6*K6 -> 11.929008
B7: Tier 1 | C7: ='2018 Rebill'!V13+'2018 Rebill'!V15 -> 7.8988023e+09 | D7: =C7/$C$8 -> 0.85078898 | E7: ='2018 Rebill'!V10/12 -> 1260811.2 | F7: =C7/E7 -> 6264.8571 | G7: 0.05461 | H7: =G7*F7 -> 342.12385 | J7: PCCA | K7: 0.00401 | L7: =L6 -> 7363.5852 | M7: =L7*K7 -> 29.527976
B8: Total | C8: =SUM(C2:C7) -> 9.2840909e+09 | F8: =SUM(F2:F7) -> 7363.5852 | H8: =SUM(H5:H7) -> 450.9199 | J8: TCA | K8: 0.00203 | L8: =L7 -> 7363.5852 | M8: =L8*K8 -> 14.948078
F9: Average Rate | G9: =H8/F8 -> 0.061236461 | J9: CACJ | K9: 0.00301 | L9: =L8 -> 7363.5852 | M9: =L9*K9 -> 22.164391
J10: Total | K10: =M10/L10 -> 0.03741 | L10: =L9 -> 7363.5852 | M10: =SUM(M5:M9) -> 275.47172
L11: Total Bill | M11: =M10+H8 -> 726.39162
B13: Schedule RE-TOU - Base Rates | J13: Schedule RE-TOU - Riders
C14: W/N Sales w/ YE Adj | E14: Customers w/YE adj | F14: Average Usage | G14: Rates | H14: Base Rate Charges | K14: Percentage Charge | L14: Base Rate Charges | M14: Revenue
J15: ECA | K15: =ROUND(M5/L15,4) -> 0.4366 | L15: =H19 -> 450.95118 | M15: =L15*K15 -> 196.88528
B16: On-Peak | C16: =$C$8*D16 -> 5.5245816e+08 | D16: ='Residential Load Shape'!AP31 -> 0.059505897 | E16: =E7 -> 1260811.2 | F16: =C16/E16 -> 438.17674 | G16: =ROUND(G18*2,5) -> 0.11078 | H16: =G16*F16 -> 48.541219 | J16: DSMCA | K16: =ROUND(M6/L16,4) -> 0.0265 | L16: =L15 -> 450.95118 | M16: =L16*K16 -> 11.950206
B17: Shoulder | C17: =$C$8*D17 -> 8.5624045e+08 | D17: ='Residential Load Shape'!AO31 -> 0.092226634 | E17: =E16 -> 1260811.2 | F17: =C17/E17 -> 679.11867 | G17: =ROUND(AVERAGE(G16,G18),5) -> 0.08309 | H17: =G17*F17 -> 56.427971 | J17: PCCA | K17: =ROUND(M7/L17,4) -> 0.0655 | L17: =L16 -> 450.95118 | M17: =L17*K17 -> 29.537302
B18: Off-Peak | C18: =$C$8*D18 -> 7.8753923e+09 | D18: ='Residential Load Shape'!AN31 -> 0.84826747 | E18: =E17 -> 1260811.2 | F18: =C18/E18 -> 6246.2897 | G18: =ROUND(G22,5) -> 0.05539 | H18: =G18*F18 -> 345.98199 | J18: TCA | K18: =ROUND(M8/L18,4) -> 0.0331 | L18: =L17 -> 450.95118 | M18: =L18*K18 -> 14.926484
B19: Total | C19: =SUM(C16:C18) -> 9.2840909e+09 | F19: =SUM(F16:F18) -> 7363.5852 | H19: =SUM(H15:H18) -> 450.95118 | J19: CACJ | K19: =ROUND(M9/L19,4) -> 0.0492 | L19: =L18 -> 450.95118 | M19: =L19*K19 -> 22.186798
F20: Average Rate | G20: =H19/F19 -> 0.061240709 | J20: Total | K20: =ROUND(M10/L20,4) -> 0.6109 | L20: =L19 -> 450.95118 | M20: =SUM(M15:M19) -> 275.48608 | O20: 5539
L21: Total Bill | M21: =M20+H19 -> 726.43725
G22: =O20/100000 -> 0.05539 | H22: =ABS(H19-H8) -> 0.031281031
B25: TOU Periods | E25: All In Rate Comparison
B26: On-Peak Summer Weekdays - 3:00pm-7:00pm | F26: Tier 1 | G26: Tier 2 | K26: Off Peak | L26: Shoulder | M26: On-Peak
E27: Base Rate | F27: =G7 -> 0.05461 | G27: =G6 -> 0.09902 | J27: =E27 -> Base Rate | K27: =G18 -> 0.05539 | L27: =G17 -> 0.08309 | M27: =G16 -> 0.11078
E28: GRSA | F28: -0.0419 | G28: =F28 -> -0.0419 | J28: =E28 -> GRSA | K28: =L28 -> -0.0419 | L28: =M28 -> -0.0419 | M28: =F28 -> -0.0419
B29: Shoulder | E29: =J15 -> ECA | F29: =K5 -> 0.02674 | G29: =F29 -> 0.02674 | J29: =E29 -> ECA | K29: =K15 -> 0.4366 | L29: =K29 -> 0.4366 | M29: =L29 -> 0.4366
B30: Summer Weekdays - 11:00am-3:00pm | E30: =J16 -> DSMCA | F30: =K6 -> 0.00162 | G30: =F30 -> 0.00162 | J30: =E30 -> DSMCA | K30: =K16 -> 0.0265 | L30: =K30 -> 0.0265 | M30: =L30 -> 0.0265
B31: Summer Weekdays - 7:00pm-10:00pm | E31: =J17 -> PCCA | F31: =K7 -> 0.00401 | G31: =F31 -> 0.00401 | J31: =E31 -> PCCA | K31: =K17 -> 0.0655 | L31: =K31 -> 0.0655 | M31: =L31 -> 0.0655
B32: Off Peak | E32: =J18 -> TCA | F32: =K8 -> 0.00203 | G32: =F32 -> 0.00203 | J32: =E32 -> TCA | K32: =K18 -> 0.0331 | L32: =K32 -> 0.0331 | M32: =L32 -> 0.0331
B33: All Winter | E33: =J19 -> CACJ | F33: =K9 -> 0.00301 | G33: =F33 -> 0.00301 | J33: =E33 -> CACJ | K33: =K19 -> 0.0492 | L33: =K33 -> 0.0492 | M33: =L33 -> 0.0492
B34: Summer Weekends | E34: RESA | F34: 0.02 | G34: =F34 -> 0.02 | J34: =E34 -> RESA | K34: 0.02 | L34: 0.02 | M34: 0.02
B35: Summer Weekdays 10pm-11am | E35: Total Rate | F35: =(F27*(1+F28)+SUM(F29:F33))*(1+F34) -> 0.091526478 | G35: =(G27*(1+G28)+SUM(G29:G33))*(1+G34) -> 0.13492668 | J35: Total Rate | K35: =K27*(1+SUM(K28:K33))*(1+K34) -> 0.088645048 | L35: =L27*(1+SUM(L28:L33))*(1+L34) -> 0.13297557 | M35: =M27*(1+SUM(M28:M33))*(1+M34) -> 0.1772901
E36: Percent of Sales | F36: =D7 -> 0.85078898 | G36: =D6 -> 0.14921102 | K36: =D18 -> 0.84826747 | L36: =D17 -> 0.092226634 | M36: =D16 -> 0.059505897

Sheet 2018 Rebill
B2: 2018 WN Residential Sales
M4: Jan - Dec | P4: Jan - Dec | S4: Jan - Dec | V4: Jan - Dec
B5: Line | D5: Rate Class | M5: Actual | P5: Weather | S5: WN | V5: YE Cust Adj
B6: No. | F6: Proposed Rate | M6: Billing Units | P6: Impact | S6: Billing Units | V6: Billing Units
B8: 1 | D8: Residential Service
B9: 2
B10: 3 | F10: R | G10: Service & Facility Charge | K10: S | M10: 15028195 | N10: Bills | Q10: Bills | S10: 15028195 | T10: Bills | V10: 15129735 | W10: Bills
B11: 4 | G11: Service & Facility Charge - PV Production Meter | K11: S | M11: 207730.64 | N11: Bills | Q11: Bills | S11: 207730.64 | T11: Bills | V11: 209134.21 | W11: Bills
B12: 5 | G12: Service & Facility Charge - Load Meter | K12: S | M12: 29.243478 | N12: Bills | Q12: Bills | S12: 29.243478 | T12: Bills | V12: 29.441066 | W12: Bills
B13: 6 | G13: Energy Charge - Summer Tier 1 | K13: E | M13: 2175755956 | N13: kWh | P13: -72294617 | Q13: kWh | S13: 2.1034613e+09 | T13: kWh | V13: 2.1176737e+09 | W13: kWh
B14: 7 | G14: Energy Charge - Summer Tier 2 | K14: E | M14: 1473720931 | N14: kWh | P14: -97729368 | Q14: kWh | S14: 1.3759916e+09 | T14: kWh | V14: 1.3852887e+09 | W14: kWh
B15: 8 | G15: Energy Charge - Winter | K15: E | M15: 5.7267866e+09 | N15: kWh | P15: 15543030 | Q15: kWh | S15: 5.7423296e+09 | T15: kWh | V15: 5.7811286e+09 | W15: kWh
B16: 9 | H16: Total Base Rate | M16: 9.3762635e+09 | N16: kWh | P16: -1.5448096e+08 | Q16: kWh | S16: 9.2217825e+09 | T16: kWh | V16: 9.2840909e+09 | W16: kWh
V18: Average Usage
T19: Summer | V19: =(V13+V14)/(V10/12)/4 -> 694.58501
M20: =M14/M16 -> 0.15717572 | T20: Winter | V20: =V15/(V10/12)/8 -> 573.15564
V22: =V14/V16 -> 0.14921102

Sheet Residential Load Shape
G1: =SUM(G4:G8763) -> 9949224.3 | H1: =SUM(H4:H8763) -> 9284090.9
H2: ='2018 Rebill'!V16/('Residential Load Shape'!G1*1000) -> 0.93314721 | X2: 1 | Y2: 2 | Z2: 3 | AA2: 4 | AB2: 5 | AG2: 6 | AH2: 7 | AI2: 8
A3: Datetime | B3: Adjusted for Daylight Time | C3: Month | D3: Weekday | E3: Hour | F3: Holiday | G3: Residential Load @ Trans Out | H3: Zone Load (MW) | J3: Weekend Flag | K3: Month-Time | M3: 2018 Residential Load
A4: 43101 | B4: =A4 -> 43101 | C4: =MONTH(B4) -> 1 | D4: =WEEKDAY(B4) -> 2 | E4: =HOUR(B4) -> 0 | F4: =COUNTIF(Holidays,ROUNDDOWN(B4,0)) -> 1 | G4: 1302.5434 | H4: =G4*$H$2 -> 1215.4647 | J4: =IF(OR(C4<6,C4>9),IF(OR(D4=1,D4=7,F4=1),"WW",""),IF(OR(D4=1,D4=7,F4=1),"WS","")) -> WW | K4: =IF(J4="",C4&"-"&E4,J4&"-"&E4) -> WW-0
A5: 43101.042 | B5: =A5 -> 43101.042 | C5: =MONTH(B5) -> 1 | D5: =WEEKDAY(B5) -> 2 | E5: =HOUR(B5) -> 1 | F5: =COUNTIF(Holidays,ROUNDDOWN(B5,0)) -> 1 | G5: 1181.5737 | H5: =G5*$H$2 -> 1102.5822 | J5: =IF(OR(C5<6,C5>9),IF(OR(D5=1,D5=7,F5=1),"WW",""),IF(OR(D5=1,D5=7,F5=1),"WS","")) -> WW | K5: =IF(J5="",C5&"-"&E5,J5&"-"&E5) -> WW-1
A6: 43101.083 | B6: =A6 -> 43101.083 | C6: =MONTH(B6) -> 1 | D6: =WEEKDAY(B6) -> 2 | E6: =HOUR(B6) -> 2 | F6: =COUNTIF(Holidays,ROUNDDOWN(B6,0)) -> 1 | G6: 1124.5016 | H6: =G6*$H$2 -> 1049.3256 | J6: =IF(OR(C6<6,C6>9),IF(OR(D6=1,D6=7,F6=1),"WW",""),IF(OR(D6=1,D6=7,F6=1),"WS","")) -> WW | K6: =IF(J6="",C6&"-"&E6,J6&"-"&E6) -> WW-2
A7: 43101.125 | B7: =A7 -> 43101.125 | C7: =MONTH(B7) -> 1 | D7: =WEEKDAY(B7) -> 2 | E7: =HOUR(B7) -> 3 | F7: =COUNTIF(Holidays,ROUNDDOWN(B7,0)) -> 1 | G7: 1083.2546 | H7: =G7*$H$2 -> 1010.836 | J7: =IF(OR(C7<6,C7>9),IF(OR(D7=1,D7=7,F7=1),"WW",""),IF(OR(D7=1,D7=7,F7=1),"WS","")) -> WW | K7: =IF(J7="",C7&"-"&E7,J7&"-"&E7) -> WW-3 | O7: Residential Sales
A8: 43101.167 | B8: =A8 -> 43101.167 | C8: =MONTH(B8) -> 1 | D8: =WEEKDAY(B8) -> 2 | E8: =HOUR(B8) -> 4 | F8: =COUNTIF(Holidays,ROUNDDOWN(B8,0)) -> 1 | G8: 1073.4896 | H8: =G8*$H$2 -> 1001.7238 | J8: =IF(OR(C8<6,C8>9),IF(OR(D8=1,D8=7,F8=1),"WW",""),IF(OR(D8=1,D8=7,F8=1),"WS","")) -> WW | K8: =IF(J8="",C8&"-"&E8,J8&"-"&E8) -> WW-4 | O8: 0 | P8: 1 | Q8: 2 | R8: 3 | S8: 4 | T8: 5 | U8: 6 | V8: 7 | W8: 8 | X8: 9 | Y8: 10 | Z8: 11 | AA8: 12 | AB8: 13 | AC8: 14 | AD8: 15 | AE8: 16 | AF8: 17 | AG8: 18 | AH8: 19 | AI8: 20 | AJ8: 21 | AK8: 22 | AL8: 23
A9: 43101.208 | B9: =A9 -> 43101.208 | C9: =MONTH(B9) -> 1 | D9: =WEEKDAY(B9) -> 2 | E9: =HOUR(B9) -> 5 | F9: =COUNTIF(Holidays,ROUNDDOWN(B9,0)) -> 1 | G9: 1118.7305 | H9: =G9*$H$2 -> 1043.9403 | J9: =IF(OR(C9<6,C9>9),IF(OR(D9=1,D9=7,F9=1),"WW",""),IF(OR(D9=1,D9=7,F9=1),"WS","")) -> WW | K9: =IF(J9="",C9&"-"&E9,J9&"-"&E9) -> WW-5 | O9: 12am | P9: 1am | Q9: 2am | R9: 3am | S9: 4am | T9: 5am | U9: 6am | V9: 7am | W9: 8am | X9: 9am | Y9: 10am | Z9: 11am | AA9: 12pm | AB9: 1pm | AC9: 2pm | AD9: 3pm | AE9: 4pm | AF9: 5pm | AG9: 6pm | AH9: 7pm | AI9: 8pm | AJ9: 9pm | AK9: 10pm | AL9: 11pm | AN9: Off-Peak | AO9: Shoulder | AP9: On-Peak
A10: 43101.25 | B10: =A10 -> 43101.25 | C10: =MONTH(B10) -> 1 | D10: =WEEKDAY(B10) -> 2 | E10: =HOUR(B10) -> 6 | F10: =COUNTIF(Holidays,ROUNDDOWN(B10,0)) -> 1 | G10: 1211.0781 | H10: =G10*$H$2 -> 1130.1142 | J10: =IF(OR(C10<6,C10>9),IF(OR(D10=1,D10=7,F10=1),"WW",""),IF(OR(D10=1,D10=7,F10=1),"WS","")) -> WW | K10: =IF(J10="",C10&"-"&E10,J10&"-"&E10) -> WW-6 | M10: 1 | N10: Jan | O10: =SUMIF($K:$K,$M10&"-"&O$8,$H:$H) -> 20540.774 | P10: =SUMIF($K:$K,$M10&"-"&P$8,$H:$H) -> 19437.814 | Q10: =SUMIF($K:$K,$M10&"-"&Q$8,$H:$H) -> 18762.514 | R10: =SUMIF($K:$K,$M10&"-"&R$8,$H:$H) -> 18679.149 | S10: =SUMIF($K:$K,$M10&"-"&S$8,$H:$H) -> 19249.729 | T10: =SUMIF($K:$K,$M10&"-"&T$8,$H:$H) -> 20923.034 | U10: =SUMIF($K:$K,$M10&"-"&U$8,$H:$H) -> 23310.53 | V10: =SUMIF($K:$K,$M10&"-"&V$8,$H:$H) -> 23700.449 | ... AL10: =SUMIF($K:$K,$M10&"-"&AL$8,$H:$H) -> 22970.756 | AN10: =SUM(O10:AL10) -> 573856.39
A11: 43101.292 | B11: =A11 -> 43101.292 | C11: =MONTH(B11) -> 1 | D11: =WEEKDAY(B11) -> 2 | E11: =HOUR(B11) -> 7 | F11: =COUNTIF(Holidays,ROUNDDOWN(B11,0)) -> 1 | G11: 1200.8778 | H11: =G11*$H$2 -> 1120.5958 | J11: =IF(OR(C11<6,C11>9),IF(OR(D11=1,D11=7,F11=1),"WW",""),IF(OR(D11=1,D11=7,F11=1),"WS","")) -> WW | K11: =IF(J11="",C11&"-"&E11,J11&"-"&E11) -> WW-7 | M11: 2 | N11: Feb | O11: =SUMIF($K:$K,$M11&"-"&O$8,$H:$H) -> 16066.465 | P11: =SUMIF($K:$K,$M11&"-"&P$8,$H:$H) -> 15128.283 | Q11: =SUMIF($K:$K,$M11&"-"&Q$8,$H:$H) -> 14610.285 | R11: =SUMIF($K:$K,$M11&"-"&R$8,$H:$H) -> 14521.119 | S11: =SUMIF($K:$K,$M11&"-"&S$8,$H:$H) -> 15159.073 | T11: =SUMIF($K:$K,$M11&"-"&T$8,$H:$H) -> 16971.839 | U11: =SUMIF($K:$K,$M11&"-"&U$8,$H:$H) -> 19363.86 | V11: =SUMIF($K:$K,$M11&"-"&V$8,$H:$H) -> 19691.264 | ... AL11: =SUMIF($K:$K,$M11&"-"&AL$8,$H:$H) -> 18284.491 | AN11: =SUM(O11:AL11) -> 463528.42
A12: 43101.333 | B12: =A12 -> 43101.333 | C12: =MONTH(B12) -> 1 | D12: =WEEKDAY(B12) -> 2 | E12: =HOUR(B12) -> 8 | F12: =COUNTIF(Holidays,ROUNDDOWN(B12,0)) -> 1 | G12: 1210.4001 | H12: =G12*$H$2 -> 1129.4815 | J12: =IF(OR(C12<6,C12>9),IF(OR(D12=1,D12=7,F12=1),"WW",""),IF(OR(D12=1,D12=7,F12=1),"WS","")) -> WW | K12: =IF(J12="",C12&"-"&E12,J12&"-"&E12) -> WW-8 | M12: 3 | N12: Mar | O12: =SUMIF($K:$K,$M12&"-"&O$8,$H:$H) -> 18328.949 | P12: =SUMIF($K:$K,$M12&"-"&P$8,$H:$H) -> 16715.778 | Q12: =SUMIF($K:$K,$M12&"-"&Q$8,$H:$H) -> 15939.883 | R12: =SUMIF($K:$K,$M12&"-"&R$8,$H:$H) -> 15599.549 | S12: =SUMIF($K:$K,$M12&"-"&S$8,$H:$H) -> 16079.416 | T12: =SUMIF($K:$K,$M12&"-"&T$8,$H:$H) -> 17837.745 | U12: =SUMIF($K:$K,$M12&"-"&U$8,$H:$H) -> 20298.958 | V12: =SUMIF($K:$K,$M12&"-"&V$8,$H:$H) -> 21683.454 | ... AL12: =SUMIF($K:$K,$M12&"-"&AL$8,$H:$H) -> 20680.161 | AN12: =SUM(O12:AL12) -> 509697.58
A13: 43101.375 | B13: =A13 -> 43101.375 | C13: =MONTH(B13) -> 1 | D13: =WEEKDAY(B13) -> 2 | E13: =HOUR(B13) -> 9 | F13: =COUNTIF(Holidays,ROUNDDOWN(B13,0)) -> 1 | G13: 1293.4812 | H13: =G13*$H$2 -> 1207.0084 | J13: =IF(OR(C13<6,C13>9),IF(OR(D13=1,D13=7,F13=1),"WW",""),IF(OR(D13=1,D13=7,F13=1),"WS","")) -> WW | K13: =IF(J13="",C13&"-"&E13,J13&"-"&E13) -> WW-9 | M13: 4 | N13: Apr | O13: =SUMIF($K:$K,$M13&"-"&O$8,$H:$H) -> 15107.209 | P13: =SUMIF($K:$K,$M13&"-"&P$8,$H:$H) -> 13765.796 | Q13: =SUMIF($K:$K,$M13&"-"&Q$8,$H:$H) -> 13029.499 | R13: =SUMIF($K:$K,$M13&"-"&R$8,$H:$H) -> 12567.228 | S13: =SUMIF($K:$K,$M13&"-"&S$8,$H:$H) -> 12728.472 | T13: =SUMIF($K:$K,$M13&"-"&T$8,$H:$H) -> 14080.988 | U13: =SUMIF($K:$K,$M13&"-"&U$8,$H:$H) -> 16080.889 | V13: =SUMIF($K:$K,$M13&"-"&V$8,$H:$H) -> 17099.802 | ... AL13: =SUMIF($K:$K,$M13&"-"&AL$8,$H:$H) -> 16790.517 | AN13: =SUM(O13:AL13) -> 409133.25
A14: 43101.417 | B14: =A14 -> 43101.417 | C14: =MONTH(B14) -> 1 | D14: =WEEKDAY(B14) -> 2 | E14: =HOUR(B14) -> 10 | F14: =COUNTIF(Holidays,ROUNDDOWN(B14,0)) -> 1 | G14: 1343.7957 | H14: =G14*$H$2 -> 1253.9592 | J14: =IF(OR(C14<6,C14>9),IF(OR(D14=1,D14=7,F14=1),"WW",""),IF(OR(D14=1,D14=7,F14=1),"WS","")) -> WW | K14: =IF(J14="",C14&"-"&E14,J14&"-"&E14) -> WW-10 | M14: 5 | N14: May | O14: =SUMIF($K:$K,$M14&"-"&O$8,$H:$H) -> 14341.246 | P14: =SUMIF($K:$K,$M14&"-"&P$8,$H:$H) -> 11559.581 | Q14: =SUMIF($K:$K,$M14&"-"&Q$8,$H:$H) -> 10092.298 | R14: =SUMIF($K:$K,$M14&"-"&R$8,$H:$H) -> 9189.9507 | S14: =SUMIF($K:$K,$M14&"-"&S$8,$H:$H) -> 9549.1449 | T14: =SUMIF($K:$K,$M14&"-"&T$8,$H:$H) -> 11656.26 | U14: =SUMIF($K:$K,$M14&"-"&U$8,$H:$H) -> 15090.242 | V14: =SUMIF($K:$K,$M14&"-"&V$8,$H:$H) -> 17983.613 | ... AL14: =SUMIF($K:$K,$M14&"-"&AL$8,$H:$H) -> 17552.366 | AN14: =SUM(O14:AL14) -> 471169.99
A15: 43101.458 | B15: =A15 -> 43101.458 | C15: =MONTH(B15) -> 1 | D15: =WEEKDAY(B15) -> 2 | E15: =HOUR(B15) -> 11 | F15: =COUNTIF(Holidays,ROUNDDOWN(B15,0)) -> 1 | G15: 1356.494 | H15: =G15*$H$2 -> 1265.8086 | J15: =IF(OR(C15<6,C15>9),IF(OR(D15=1,D15=7,F15=1),"WW",""),IF(OR(D15=1,D15=7,F15=1),"WS","")) -> WW | K15: =IF(J15="",C15&"-"&E15,J15&"-"&E15) -> WW-11 | M15: 6 | N15: Jun | O15: =SUMIF($K:$K,$M15&"-"&O$8,$H:$H) -> 19474.808 | P15: =SUMIF($K:$K,$M15&"-"&P$8,$H:$H) -> 16570.205 | Q15: =SUMIF($K:$K,$M15&"-"&Q$8,$H:$H) -> 15069.593 | R15: =SUMIF($K:$K,$M15&"-"&R$8,$H:$H) -> 13618.733 | S15: =SUMIF($K:$K,$M15&"-"&S$8,$H:$H) -> 13055.338 | T15: =SUMIF($K:$K,$M15&"-"&T$8,$H:$H) -> 13427.798 | U15: =SUMIF($K:$K,$M15&"-"&U$8,$H:$H) -> 14528.535 | V15: =SUMIF($K:$K,$M15&"-"&V$8,$H:$H) -> 15768.1 | ... AL15: =SUMIF($K:$K,$M15&"-"&AL$8,$H:$H) -> 22774.422 | AN15: =SUM(O15:Y15,AK15:AL15) -> 225769.05 | AO15: =SUM(Z15:AC15,AH15:AJ15) -> 197964.7 | AP15: =SUM(AD15:AG15) -> 130081.94
A16: 43101.5 | B16: =A16 -> 43101.5 | C16: =MONTH(B16) -> 1 | D16: =WEEKDAY(B16) -> 2 | E16: =HOUR(B16) -> 12 | F16: =COUNTIF(Holidays,ROUNDDOWN(B16,0)) -> 1 | G16: 1397.5741 | H16: =G16*$H$2 -> 1304.1423 | J16: =IF(OR(C16<6,C16>9),IF(OR(D16=1,D16=7,F16=1),"WW",""),IF(OR(D16=1,D16=7,F16=1),"WS","")) -> WW | K16: =IF(J16="",C16&"-"&E16,J16&"-"&E16) -> WW-12 | M16: 7 | N16: Jul | O16: =SUMIF($K:$K,$M16&"-"&O$8,$H:$H) -> 22215.776 | P16: =SUMIF($K:$K,$M16&"-"&P$8,$H:$H) -> 18526.814 | Q16: =SUMIF($K:$K,$M16&"-"&Q$8,$H:$H) -> 16606.164 | R16: =SUMIF($K:$K,$M16&"-"&R$8,$H:$H) -> 14844.38 | S16: =SUMIF($K:$K,$M16&"-"&S$8,$H:$H) -> 14116.3 | T16: =SUMIF($K:$K,$M16&"-"&T$8,$H:$H) -> 14129.216 | U16: =SUMIF($K:$K,$M16&"-"&U$8,$H:$H) -> 15063.766 | V16: =SUMIF($K:$K,$M16&"-"&V$8,$H:$H) -> 16453.798 | ... AL16: =SUMIF($K:$K,$M16&"-"&AL$8,$H:$H) -> 26111.812 | AN16: =SUM(O16:Y16,AK16:AL16) -> 249796.04 | AO16: =SUM(Z16:AC16,AH16:AJ16) -> 239950.59 | AP16: =SUM(AD16:AG16) -> 160997.86
A17: 43101.542 | B17: =A17 -> 43101.542 | C17: =MONTH(B17) -> 1 | D17: =WEEKDAY(B17) -> 2 | E17: =HOUR(B17) -> 13 | F17: =COUNTIF(Holidays,ROUNDDOWN(B17,0)) -> 1 | G17: 1418.5395 | H17: =G17*$H$2 -> 1323.7061 | J17: =IF(OR(C17<6,C17>9),IF(OR(D17=1,D17=7,F17=1),"WW",""),IF(OR(D17=1,D17=7,F17=1),"WS","")) -> WW | K17: =IF(J17="",C17&"-"&E17,J17&"-"&E17) -> WW-13 | M17: 8 | N17: Aug | O17: =SUMIF($K:$K,$M17&"-"&O$8,$H:$H) -> 22873.693 | P17: =SUMIF($K:$K,$M17&"-"&P$8,$H:$H) -> 19282.574 | Q17: =SUMIF($K:$K,$M17&"-"&Q$8,$H:$H) -> 17781.981 | R17: =SUMIF($K:$K,$M17&"-"&R$8,$H:$H) -> 16102.513 | S17: =SUMIF($K:$K,$M17&"-"&S$8,$H:$H) -> 15389.439 | T17: =SUMIF($K:$K,$M17&"-"&T$8,$H:$H) -> 16036.126 | U17: =SUMIF($K:$K,$M17&"-"&U$8,$H:$H) -> 17602.106 | V17: =SUMIF($K:$K,$M17&"-"&V$8,$H:$H) -> 19370.27 | ... AL17: =SUMIF($K:$K,$M17&"-"&AL$8,$H:$H) -> 26635.714 | AN17: =SUM(O17:Y17,AK17:AL17) -> 270161.44 | AO17: =SUM(Z17:AC17,AH17:AJ17) -> 260334.89 | AP17: =SUM(AD17:AG17) -> 176159.37
A18: 43101.583 | B18: =A18 -> 43101.583 | C18: =MONTH(B18) -> 1 | D18: =WEEKDAY(B18) -> 2 | E18: =HOUR(B18) -> 14 | F18: =COUNTIF(Holidays,ROUNDDOWN(B18,0)) -> 1 | G18: 1432.4546 | H18: =G18*$H$2 -> 1336.691 | J18: =IF(OR(C18<6,C18>9),IF(OR(D18=1,D18=7,F18=1),"WW",""),IF(OR(D18=1,D18=7,F18=1),"WS","")) -> WW | K18: =IF(J18="",C18&"-"&E18,J18&"-"&E18) -> WW-14 | M18: 9 | N18: Sep | O18: =SUMIF($K:$K,$M18&"-"&O$8,$H:$H) -> 15258.251 | P18: =SUMIF($K:$K,$M18&"-"&P$8,$H:$H) -> 13567.38 | Q18: =SUMIF($K:$K,$M18&"-"&Q$8,$H:$H) -> 12701.086 | R18: =SUMIF($K:$K,$M18&"-"&R$8,$H:$H) -> 11894.896 | S18: =SUMIF($K:$K,$M18&"-"&S$8,$H:$H) -> 11713.303 | T18: =SUMIF($K:$K,$M18&"-"&T$8,$H:$H) -> 12554.475 | U18: =SUMIF($K:$K,$M18&"-"&U$8,$H:$H) -> 14162.049 | V18: =SUMIF($K:$K,$M18&"-"&V$8,$H:$H) -> 15282.844 | ... AL18: =SUMIF($K:$K,$M18&"-"&AL$8,$H:$H) -> 17715.768 | AN18: =SUM(O18:Y18,AK18:AL18) -> 191588.8 | AO18: =SUM(Z18:AC18,AH18:AJ18) -> 159501.44 | AP18: =SUM(AD18:AG18) -> 104489.33
A19: 43101.625 | B19: =A19 -> 43101.625 | C19: =MONTH(B19) -> 1 | D19: =WEEKDAY(B19) -> 2 | E19: =HOUR(B19) -> 15 | F19: =COUNTIF(Holidays,ROUNDDOWN(B19,0)) -> 1 | G19: 1489.6176 | H19: =G19*$H$2 -> 1390.0325 | J19: =IF(OR(C19<6,C19>9),IF(OR(D19=1,D19=7,F19=1),"WW",""),IF(OR(D19=1,D19=7,F19=1),"WS","")) -> WW | K19: =IF(J19="",C19&"-"&E19,J19&"-"&E19) -> WW-15 | M19: 10 | N19: Oct | O19: =SUMIF($K:$K,$M19&"-"&O$8,$H:$H) -> 13644.651 | P19: =SUMIF($K:$K,$M19&"-"&P$8,$H:$H) -> 11547.572 | Q19: =SUMIF($K:$K,$M19&"-"&Q$8,$H:$H) -> 10540.792 | R19: =SUMIF($K:$K,$M19&"-"&R$8,$H:$H) -> 9876.7287 | S19: =SUMIF($K:$K,$M19&"-"&S$8,$H:$H) -> 10346.916 | T19: =SUMIF($K:$K,$M19&"-"&T$8,$H:$H) -> 12569.804 | U19: =SUMIF($K:$K,$M19&"-"&U$8,$H:$H) -> 16642.274 | V19: =SUMIF($K:$K,$M19&"-"&V$8,$H:$H) -> 20124.145 | ... AL19: =SUMIF($K:$K,$M19&"-"&AL$8,$H:$H) -> 16177.752 | AN19: =SUM(O19:AL19) -> 478292.74
A20: 43101.667 | B20: =A20 -> 43101.667 | C20: =MONTH(B20) -> 1 | D20: =WEEKDAY(B20) -> 2 | E20: =HOUR(B20) -> 16 | F20: =COUNTIF(Holidays,ROUNDDOWN(B20,0)) -> 1 | G20: 1657.5129 | H20: =G20*$H$2 -> 1546.7035 | J20: =IF(OR(C20<6,C20>9),IF(OR(D20=1,D20=7,F20=1),"WW",""),IF(OR(D20=1,D20=7,F20=1),"WS","")) -> WW | K20: =IF(J20="",C20&"-"&E20,J20&"-"&E20) -> WW-16 | M20: 11 | N20: Nov | O20: =SUMIF($K:$K,$M20&"-"&O$8,$H:$H) -> 15751.525 | P20: =SUMIF($K:$K,$M20&"-"&P$8,$H:$H) -> 14663.213 | Q20: =SUMIF($K:$K,$M20&"-"&Q$8,$H:$H) -> 13998.62 | R20: =SUMIF($K:$K,$M20&"-"&R$8,$H:$H) -> 13988.646 | S20: =SUMIF($K:$K,$M20&"-"&S$8,$H:$H) -> 14715.275 | T20: =SUMIF($K:$K,$M20&"-"&T$8,$H:$H) -> 16278.709 | U20: =SUMIF($K:$K,$M20&"-"&U$8,$H:$H) -> 18408.248 | V20: =SUMIF($K:$K,$M20&"-"&V$8,$H:$H) -> 18895.414 | ... AL20: =SUMIF($K:$K,$M20&"-"&AL$8,$H:$H) -> 18274.57 | AN20: =SUM(O20:AL20) -> 461194.57
A21: 43101.708 | B21: =A21 -> 43101.708 | C21: =MONTH(B21) -> 1 | D21: =WEEKDAY(B21) -> 2 | E21: =HOUR(B21) -> 17 | F21: =COUNTIF(Holidays,ROUNDDOWN(B21,0)) -> 1 | G21: 1951.187 | H21: =G21*$H$2 -> 1820.7447 | J21: =IF(OR(C21<6,C21>9),IF(OR(D21=1,D21=7,F21=1),"WW",""),IF(OR(D21=1,D21=7,F21=1),"WS","")) -> WW | K21: =IF(J21="",C21&"-"&E21,J21&"-"&E21) -> WW-17 | M21: 12 | N21: Dec | O21: =SUMIF($K:$K,$M21&"-"&O$8,$H:$H) -> 19431.546 | P21: =SUMIF($K:$K,$M21&"-"&P$8,$H:$H) -> 18070.336 | Q21: =SUMIF($K:$K,$M21&"-"&Q$8,$H:$H) -> 17327.381 | R21: =SUMIF($K:$K,$M21&"-"&R$8,$H:$H) -> 17251.143 | S21: =SUMIF($K:$K,$M21&"-"&S$8,$H:$H) -> 17765.458 | T21: =SUMIF($K:$K,$M21&"-"&T$8,$H:$H) -> 19000.705 | U21: =SUMIF($K:$K,$M21&"-"&U$8,$H:$H) -> 20756.311 | V21: =SUMIF($K:$K,$M21&"-"&V$8,$H:$H) -> 21446.025 | ... AL21: =SUMIF($K:$K,$M21&"-"&AL$8,$H:$H) -> 22419.653 | AN21: =SUM(O21:AL21) -> 544564.04
A22: 43101.75 | B22: =A22 -> 43101.75 | C22: =MONTH(B22) -> 1 | D22: =WEEKDAY(B22) -> 2 | E22: =HOUR(B22) -> 18 | F22: =COUNTIF(Holidays,ROUNDDOWN(B22,0)) -> 1 | G22: 2047.9807 | H22: =G22*$H$2 -> 1911.0675 | J22: =IF(OR(C22<6,C22>9),IF(OR(D22=1,D22=7,F22=1),"WW",""),IF(OR(D22=1,D22=7,F22=1),"WS","")) -> WW | K22: =IF(J22="",C22&"-"&E22,J22&"-"&E22) -> WW-18 | N22: Weekends
A23: 43101.792 | B23: =A23 -> 43101.792 | C23: =MONTH(B23) -> 1 | D23: =WEEKDAY(B23) -> 2 | E23: =HOUR(B23) -> 19 | F23: =COUNTIF(Holidays,ROUNDDOWN(B23,0)) -> 1 | G23: 1974.3923 | H23: =G23*$H$2 -> 1842.3986 | J23: =IF(OR(C23<6,C23>9),IF(OR(D23=1,D23=7,F23=1),"WW",""),IF(OR(D23=1,D23=7,F23=1),"WS","")) -> WW | K23: =IF(J23="",C23&"-"&E23,J23&"-"&E23) -> WW-19 | M23: WW | N23: Winter | O23: =SUMIF($K:$K,$M23&"-"&O$8,$H:$H) -> 63579.988 | P23: =SUMIF($K:$K,$M23&"-"&P$8,$H:$H) -> 57997.918 | Q23: =SUMIF($K:$K,$M23&"-"&Q$8,$H:$H) -> 54578.908 | R23: =SUMIF($K:$K,$M23&"-"&R$8,$H:$H) -> 52710.06 | S23: =SUMIF($K:$K,$M23&"-"&S$8,$H:$H) -> 52983.648 | T23: =SUMIF($K:$K,$M23&"-"&T$8,$H:$H) -> 56043.206 | U23: =SUMIF($K:$K,$M23&"-"&U$8,$H:$H) -> 62308.474 | V23: =SUMIF($K:$K,$M23&"-"&V$8,$H:$H) -> 69170.645 | ... AL23: =SUMIF($K:$K,$M23&"-"&AL$8,$H:$H) -> 71625.12 | AN23: =SUM(O23:AL23) -> 1914414.4
A24: 43101.833 | B24: =A24 -> 43101.833 | C24: =MONTH(B24) -> 1 | D24: =WEEKDAY(B24) -> 2 | E24: =HOUR(B24) -> 20 | F24: =COUNTIF(Holidays,ROUNDDOWN(B24,0)) -> 1 | G24: 1886.0557 | H24: =G24*$H$2 -> 1759.9676 | J24: =IF(OR(C24<6,C24>9),IF(OR(D24=1,D24=7,F24=1),"WW",""),IF(OR(D24=1,D24=7,F24=1),"WS","")) -> WW | K24: =IF(J24="",C24&"-"&E24,J24&"-"&E24) -> WW-20 | M24: WS | N24: Summer | O24: =SUMIF($K:$K,$M24&"-"&O$8,$H:$H) -> 36509.104 | P24: =SUMIF($K:$K,$M24&"-"&P$8,$H:$H) -> 31312.282 | Q24: =SUMIF($K:$K,$M24&"-"&Q$8,$H:$H) -> 28684.615 | R24: =SUMIF($K:$K,$M24&"-"&R$8,$H:$H) -> 25758.029 | S24: =SUMIF($K:$K,$M24&"-"&S$8,$H:$H) -> 24453.87 | T24: =SUMIF($K:$K,$M24&"-"&T$8,$H:$H) -> 24095.828 | U24: =SUMIF($K:$K,$M24&"-"&U$8,$H:$H) -> 24437.495 | V24: =SUMIF($K:$K,$M24&"-"&V$8,$H:$H) -> 26368.9 | ... AL24: =SUMIF($K:$K,$M24&"-"&AL$8,$H:$H) -> 41448.348 | AN24: =SUM(O24:AL24) -> 1091444.2
A25: 43101.875 | B25: =A25 -> 43101.875 | C25: =MONTH(B25) -> 1 | D25: =WEEKDAY(B25) -> 2 | E25: =HOUR(B25) -> 21 | F25: =COUNTIF(Holidays,ROUNDDOWN(B25,0)) -> 1 | G25: 1726.7545 | H25: =G25*$H$2 -> 1611.3161 | J25: =IF(OR(C25<6,C25>9),IF(OR(D25=1,D25=7,F25=1),"WW",""),IF(OR(D25=1,D25=7,F25=1),"WS","")) -> WW | K25: =IF(J25="",C25&"-"&E25,J25&"-"&E25) -> WW-21 | AM25: Total | AN25: =SUM(AN10:AN24) -> 7854610.8 | AO25: =SUM(AO10:AO24) -> 857751.62 | AP25: =SUM(AP10:AP24) -> 571728.5
A26: 43101.917 | B26: =A26 -> 43101.917 | C26: =MONTH(B26) -> 1 | D26: =WEEKDAY(B26) -> 2 | E26: =HOUR(B26) -> 22 | F26: =COUNTIF(Holidays,ROUNDDOWN(B26,0)) -> 1 | G26: 1494.9855 | H26: =G26*$H$2 -> 1395.0416 | J26: =IF(OR(C26<6,C26>9),IF(OR(D26=1,D26=7,F26=1),"WW",""),IF(OR(D26=1,D26=7,F26=1),"WS","")) -> WW | K26: =IF(J26="",C26&"-"&E26,J26&"-"&E26) -> WW-22 | AL26: Total | AN26: =SUM(AN10:AP24) -> 9284090.9
A27: 43101.958 | B27: =A27 -> 43101.958 | C27: =MONTH(B27) -> 1 | D27: =WEEKDAY(B27) -> 2 | E27: =HOUR(B27) -> 23 | F27: =COUNTIF(Holidays,ROUNDDOWN(B27,0)) -> 1 | G27: 1371.5533 | H27: =G27*$H$2 -> 1279.8611 | J27: =IF(OR(C27<6,C27>9),IF(OR(D27=1,D27=7,F27=1),"WW",""),IF(OR(D27=1,D27=7,F27=1),"WS","")) -> WW | K27: =IF(J27="",C27&"-"&E27,J27&"-"&E27) -> WW-23
A28: 43102 | B28: =A28 -> 43102 | C28: =MONTH(B28) -> 1 | D28: =WEEKDAY(B28) -> 3 | E28: =HOUR(B28) -> 0 | F28: =COUNTIF(Holidays,ROUNDDOWN(B28,0)) -> 0 | G28: 1149.272 | H28: =G28*$H$2 -> 1072.44 | J28: =IF(OR(C28<6,C28>9),IF(OR(D28=1,D28=7,F28=1),"WW",""),IF(OR(D28=1,D28=7,F28=1),"WS","")) | K28: =IF(J28="",C28&"-"&E28,J28&"-"&E28) -> 1-0 | AN28: Impact Of TOU Rates
A29: 43102.042 | B29: =A29 -> 43102.042 | C29: =MONTH(B29) -> 1 | D29: =WEEKDAY(B29) -> 3 | E29: =HOUR(B29) -> 1 | F29: =COUNTIF(Holidays,ROUNDDOWN(B29,0)) -> 0 | G29: 1107.4345 | H29: =G29*$H$2 -> 1033.3994 | J29: =IF(OR(C29<6,C29>9),IF(OR(D29=1,D29=7,F29=1),"WW",""),IF(OR(D29=1,D29=7,F29=1),"WS","")) | K29: =IF(J29="",C29&"-"&E29,J29&"-"&E29) -> 1-1 | AN29: 0.037 | AO29: 0 | AP29: -0.032
A30: 43102.083 | B30: =A30 -> 43102.083 | C30: =MONTH(B30) -> 1 | D30: =WEEKDAY(B30) -> 3 | E30: =HOUR(B30) -> 2 | F30: =COUNTIF(Holidays,ROUNDDOWN(B30,0)) -> 0 | G30: 1056.6891 | H30: =G30*$H$2 -> 986.04645 | J30: =IF(OR(C30<6,C30>9),IF(OR(D30=1,D30=7,F30=1),"WW",""),IF(OR(D30=1,D30=7,F30=1),"WS","")) | K30: =IF(J30="",C30&"-"&E30,J30&"-"&E30) -> 1-2 | AN30: =SUM(AN15:AN18)*(1+AN29)+SUM(AN10:AN14,AN19:AN24) -> 7889291.5 | AO30: =AO25*(1+AO29) -> 857751.62 | AP30: =AP25*(1+AP29) -> 553433.18
A31: 43102.125 | B31: =A31 -> 43102.125 | C31: =MONTH(B31) -> 1 | D31: =WEEKDAY(B31) -> 3 | E31: =HOUR(B31) -> 3 | F31: =COUNTIF(Holidays,ROUNDDOWN(B31,0)) -> 0 | G31: 1051.0029 | H31: =G31*$H$2 -> 980.74039 | J31: =IF(OR(C31<6,C31>9),IF(OR(D31=1,D31=7,F31=1),"WW",""),IF(OR(D31=1,D31=7,F31=1),"WS","")) | K31: =IF(J31="",C31&"-"&E31,J31&"-"&E31) -> 1-3 | AN31: =AN30/SUM($AN$30:$AP$30) -> 0.84826747 | AO31: =AO30/SUM($AN$30:$AP$30) -> 0.092226634 | AP31: =AP30/SUM($AN$30:$AP$30) -> 0.059505897
A32: 43102.167 | B32: =A32 -> 43102.167 | C32: =MONTH(B32) -> 1 | D32: =WEEKDAY(B32) -> 3 | E32: =HOUR(B32) -> 4 | F32: =COUNTIF(Holidays,ROUNDDOWN(B32,0)) -> 0 | G32: 1079.5198 | H32: =G32*$H$2 -> 1007.3509 | J32: =IF(OR(C32<6,C32>9),IF(OR(D32=1,D32=7,F32=1),"WW",""),IF(OR(D32=1,D32=7,F32=1),"WS","")) | K32: =IF(J32="",C32&"-"&E32,J32&"-"&E32) -> 1-4
A33: 43102.208 | B33: =A33 -> 43102.208 | C33: =MONTH(B33) -> 1 | D33: =WEEKDAY(B33) -> 3 | E33: =HOUR(B33) -> 5 | F33: =COUNTIF(Holidays,ROUNDDOWN(B33,0)) -> 0 | G33: 1156.5106 | H33: =G33*$H$2 -> 1079.1946 | J33: =IF(OR(C33<6,C33>9),IF(OR(D33=1,D33=7,F33=1),"WW",""),IF(OR(D33=1,D33=7,F33=1),"WS","")) | K33: =IF(J33="",C33&"-"&E33,J33&"-"&E33) -> 1-5
A34: 43102.25 | B34: =A34 -> 43102.25 | C34: =MONTH(B34) -> 1 | D34: =WEEKDAY(B34) -> 3 | E34: =HOUR(B34) -> 6 | F34: =COUNTIF(Holidays,ROUNDDOWN(B34,0)) -> 0 | G34: 1272.6833 | H34: =G34*$H$2 -> 1187.6009 | J34: =IF(OR(C34<6,C34>9),IF(OR(D34=1,D34=7,F34=1),"WW",""),IF(OR(D34=1,D34=7,F34=1),"WS","")) | K34: =IF(J34="",C34&"-"&E34,J34&"-"&E34) -> 1-6
A35: 43102.292 | B35: =A35 -> 43102.292 | C35: =MONTH(B35) -> 1 | D35: =WEEKDAY(B35) -> 3 | E35: =HOUR(B35) -> 7 | F35: =COUNTIF(Holidays,ROUNDDOWN(B35,0)) -> 0 | G35: 1271.9191 | H35: =G35*$H$2 -> 1186.8877 | J35: =IF(OR(C35<6,C35>9),IF(OR(D35=1,D35=7,F35=1),"WW",""),IF(OR(D35=1,D35=7,F35=1),"WS","")) | K35: =IF(J35="",C35&"-"&E35,J35&"-"&E35) -> 1-7
A36: 43102.333 | B36: =A36 -> 43102.333 | C36: =MONTH(B36) -> 1 | D36: =WEEKDAY(B36) -> 3 | E36: =HOUR(B36) -> 8 | F36: =COUNTIF(Holidays,ROUNDDOWN(B36,0)) -> 0 | G36: 1215.8346 | H36: =G36*$H$2 -> 1134.5527 | J36: =IF(OR(C36<6,C36>9),IF(OR(D36=1,D36=7,F36=1),"WW",""),IF(OR(D36=1,D36=7,F36=1),"WS","")) | K36: =IF(J36="",C36&"-"&E36,J36&"-"&E36) -> 1-8
A37: 43102.375 | B37: =A37 -> 43102.375 | C37: =MONTH(B37) -> 1 | D37: =WEEKDAY(B37) -> 3 | E37: =HOUR(B37) -> 9 | F37: =COUNTIF(Holidays,ROUNDDOWN(B37,0)) -> 0 | G37: 1193.9218 | H37: =G37*$H$2 -> 1114.1048 | J37: =IF(OR(C37<6,C37>9),IF(OR(D37=1,D37=7,F37=1),"WW",""),IF(OR(D37=1,D37=7,F37=1),"WS","")) | K37: =IF(J37="",C37&"-"&E37,J37&"-"&E37) -> 1-9 | O37: Count of Hours
A38: 43102.417 | B38: =A38 -> 43102.417 | C38: =MONTH(B38) -> 1 | D38: =WEEKDAY(B38) -> 3 | E38: =HOUR(B38) -> 10 | F38: =COUNTIF(Holidays,ROUNDDOWN(B38,0)) -> 0 | G38: 1169.4203 | H38: =G38*$H$2 -> 1091.2413 | J38: =IF(OR(C38<6,C38>9),IF(OR(D38=1,D38=7,F38=1),"WW",""),IF(OR(D38=1,D38=7,F38=1),"WS","")) | K38: =IF(J38="",C38&"-"&E38,J38&"-"&E38) -> 1-10 | O38: 0 | P38: 1 | Q38: 2 | R38: 3 | S38: 4 | T38: 5 | U38: 6 | V38: 7 | W38: 8 | X38: 9 | Y38: 10 | Z38: 11 | AA38: 12 | AB38: 13 | AC38: 14 | AD38: 15 | AE38: 16 | AF38: 17 | AG38: 18 | AH38: 19 | AI38: 20 | AJ38: 21 | AK38: 22 | AL38: 23
A39: 43102.458 | B39: =A39 -> 43102.458 | C39: =MONTH(B39) -> 1 | D39: =WEEKDAY(B39) -> 3 | E39: =HOUR(B39) -> 11 | F39: =COUNTIF(Holidays,ROUNDDOWN(B39,0)) -> 0 | G39: 1159.0567 | H39: =G39*$H$2 -> 1081.5705 | J39: =IF(OR(C39<6,C39>9),IF(OR(D39=1,D39=7,F39=1),"WW",""),IF(OR(D39=1,D39=7,F39=1),"WS","")) | K39: =IF(J39="",C39&"-"&E39,J39&"-"&E39) -> 1-11 | O39: 12am | P39: 1am | Q39: 2am | R39: 3am | S39: 4am | T39: 5am | U39: 6am | V39: 7am | W39: 8am | X39: 9am | Y39: 10am | Z39: 11am | AA39: 12pm | AB39: 1pm | AC39: 2pm | AD39: 3pm | AE39: 4pm | AF39: 5pm | AG39: 6pm | AH39: 7pm | AI39: 8pm | AJ39: 9pm | AK39: 10pm | AL39: 11pm | AN39: Off-Peak | AO39: Shoulder | AP39: On-Peak
A40: 43102.5 | B40: =A40 -> 43102.5 | C40: =MONTH(B40) -> 1 | D40: =WEEKDAY(B40) -> 3 | E40: =HOUR(B40) -> 12 | F40: =COUNTIF(Holidays,ROUNDDOWN(B40,0)) -> 0 | G40: 1160.8801 | H40: =G40*$H$2 -> 1083.272 | J40: =IF(OR(C40<6,C40>9),IF(OR(D40=1,D40=7,F40=1),"WW",""),IF(OR(D40=1,D40=7,F40=1),"WS","")) | K40: =IF(J40="",C40&"-"&E40,J40&"-"&E40) -> 1-12 | M40: 1 | N40: Jan | O40: =COUNTIF($K:$K,$M40&"-"&O$8) -> 21 | P40: =COUNTIF($K:$K,$M40&"-"&P$8) -> 21 | Q40: =COUNTIF($K:$K,$M40&"-"&Q$8) -> 21 | R40: =COUNTIF($K:$K,$M40&"-"&R$8) -> 21 | S40: =COUNTIF($K:$K,$M40&"-"&S$8) -> 21 | T40: =COUNTIF($K:$K,$M40&"-"&T$8) -> 21 | U40: =COUNTIF($K:$K,$M40&"-"&U$8) -> 21 | V40: =COUNTIF($K:$K,$M40&"-"&V$8) -> 21 | ... AL40: =COUNTIF($K:$K,$M40&"-"&AL$8) -> 21 | AN40: =SUM(O40:AL40) -> 504
...

Sheet Holidays
B2: New Year's Day | C2: 43101
B3: Martin Luther King Jr. Day | C3: 43115
B4: Washington's Birthday | C4: 43150
B5: Memorial Day | C5: 43248
B6: Independence Day | C6: 43285
B7: Labor Day | C7: 43346
B8: Columbus Day | C8: 43381
B9: Veterans Day | C9: 43416
B10: Thanksgiving | C10: 43426
B11: Christmas Day | C11: 43459

Sheet Charts
D2: Off-Peak | E2: Shoulder | F2: On-Peak | I2: Tier 1 | J2: Teir 2
C3: 0 | D3: ='Rate Design'!K35 -> 0.088645048 | H3: 0 | I3: ='Rate Design'!F35 -> 0.091526478 | J3: =K3-I3 -> 0.043400205 | K3: ='Rate Design'!G35 -> 0.13492668
C4: 0.041666667 | D4: =D3 -> 0.088645048 | H4: 0.041666667 | I4: =I3 -> 0.091526478 | J4: =K4-I4 -> 0.043400205 | K4: =K3 -> 0.13492668
C5: 0.083333333 | D5: =D4 -> 0.088645048 | H5: 0.083333333 | I5: =I4 -> 0.091526478 | J5: =K5-I5 -> 0.043400205 | K5: =K4 -> 0.13492668
C6: 0.125 | D6: =D5 -> 0.088645048 | H6: 0.125 | I6: =I5 -> 0.091526478 | J6: =K6-I6 -> 0.043400205 | K6: =K5 -> 0.13492668
C7: 0.16666667 | D7: =D6 -> 0.088645048 | H7: 0.16666667 | I7: =I6 -> 0.091526478 | J7: =K7-I7 -> 0.043400205 | K7: =K6 -> 0.13492668
C8: 0.20833333 | D8: =D7 -> 0.088645048 | H8: 0.20833333 | I8: =I7 -> 0.091526478 | J8: =K8-I8 -> 0.043400205 | K8: =K7 -> 0.13492668
C9: 0.25 | D9: =D8 -> 0.088645048 | H9: 0.25 | I9: =I8 -> 0.091526478 | J9: =K9-I9 -> 0.043400205 | K9: =K8 -> 0.13492668
C10: 0.29166667 | D10: =D9 -> 0.088645048 | H10: 0.29166667 | I10: =I9 -> 0.091526478 | J10: =K10-I10 -> 0.043400205 | K10: =K9 -> 0.13492668
C11: 0.33333333 | D11: =D10 -> 0.088645048 | H11: 0.33333333 | I11: =I10 -> 0.091526478 | J11: =K11-I11 -> 0.043400205 | K11: =K10 -> 0.13492668
C12: 0.375 | D12: =D11 -> 0.088645048 | H12: 0.375 | I12: =I11 -> 0.091526478 | J12: =K12-I12 -> 0.043400205 | K12: =K11 -> 0.13492668
C13: 0.41666667 | D13: =D12 -> 0.088645048 | H13: 0.41666667 | I13: =I12 -> 0.091526478 | J13: =K13-I13 -> 0.043400205 | K13: =K12 -> 0.13492668
C14: 0.45833333 | E14: ='Rate Design'!L35 -> 0.13297557 | H14: 0.45833333 | I14: =I13 -> 0.091526478 | J14: =K14-I14 -> 0.043400205 | K14: =K13 -> 0.13492668
C15: 0.5 | E15: =E14 -> 0.13297557 | H15: 0.5 | I15: =I14 -> 0.091526478 | J15: =K15-I15 -> 0.043400205 | K15: =K14 -> 0.13492668
C16: 0.54166667 | E16: =E15 -> 0.13297557 | H16: 0.54166667 | I16: =I15 -> 0.091526478 | J16: =K16-I16 -> 0.043400205 | K16: =K15 -> 0.13492668
C17: 0.58333333 | E17: =E16 -> 0.13297557 | H17: 0.58333333 | I17: =I16 -> 0.091526478 | J17: =K17-I17 -> 0.043400205 | K17: =K16 -> 0.13492668
C18: 0.625 | F18: ='Rate Design'!M35 -> 0.1772901 | H18: 0.625 | I18: =I17 -> 0.091526478 | J18: =K18-I18 -> 0.043400205 | K18: =K17 -> 0.13492668
C19: 0.66666667 | F19: =F18 -> 0.1772901 | H19: 0.66666667 | I19: =I18 -> 0.091526478 | J19: =K19-I19 -> 0.043400205 | K19: =K18 -> 0.13492668
C20: 0.70833333 | F20: =F19 -> 0.1772901 | H20: 0.70833333 | I20: =I19 -> 0.091526478 | J20: =K20-I20 -> 0.043400205 | K20: =K19 -> 0.13492668
C21: 0.75 | F21: =F20 -> 0.1772901 | H21: 0.75 | I21: =I20 -> 0.091526478 | J21: =K21-I21 -> 0.043400205 | K21: =K20 -> 0.13492668
C22: 0.79166667 | E22: =E14 -> 0.13297557 | H22: 0.79166667 | I22: =I21 -> 0.091526478 | J22: =K22-I22 -> 0.043400205 | K22: =K21 -> 0.13492668
C23: 0.83333333 | E23: =E22 -> 0.13297557 | H23: 0.83333333 | I23: =I22 -> 0.091526478 | J23: =K23-I23 -> 0.043400205 | K23: =K22 -> 0.13492668
C24: 0.875 | E24: =E23 -> 0.13297557 | H24: 0.875 | I24: =I23 -> 0.091526478 | J24: =K24-I24 -> 0.043400205 | K24: =K23 -> 0.13492668
C25: 0.91666667 | D25: =D3 -> 0.088645048 | H25: 0.91666667 | I25: =I24 -> 0.091526478 | J25: =K25-I25 -> 0.043400205 | K25: =K24 -> 0.13492668
C26: 0.95833333 | D26: =D4 -> 0.088645048 | H26: 0.95833333 | I26: =I25 -> 0.091526478 | J26: =K26-I26 -> 0.043400205 | K26: =K25 -> 0.13492668
